BEGIN:VCALENDAR
VERSION:2.0
PRODID:-//IVHS &amp; SPCA - ECPv6.15.20//NONSGML v1.0//EN
CALSCALE:GREGORIAN
METHOD:PUBLISH
X-WR-CALNAME:IVHS &amp; SPCA
X-ORIGINAL-URL:https://ivhsspca.org
X-WR-CALDESC:Events for IVHS &amp; SPCA
REFRESH-INTERVAL;VALUE=DURATION:PT1H
X-Robots-Tag:noindex
X-PUBLISHED-TTL:PT1H
BEGIN:VTIMEZONE
TZID:America/Los_Angeles
BEGIN:DAYLIGHT
TZOFFSETFROM:-0800
TZOFFSETTO:-0700
TZNAME:PDT
DTSTART:20250309T100000
END:DAYLIGHT
BEGIN:STANDARD
TZOFFSETFROM:-0700
TZOFFSETTO:-0800
TZNAME:PST
DTSTART:20251102T090000
END:STANDARD
BEGIN:DAYLIGHT
TZOFFSETFROM:-0800
TZOFFSETTO:-0700
TZNAME:PDT
DTSTART:20260308T100000
END:DAYLIGHT
BEGIN:STANDARD
TZOFFSETFROM:-0700
TZOFFSETTO:-0800
TZNAME:PST
DTSTART:20261101T090000
END:STANDARD
BEGIN:DAYLIGHT
TZOFFSETFROM:-0800
TZOFFSETTO:-0700
TZNAME:PDT
DTSTART:20270314T100000
END:DAYLIGHT
BEGIN:STANDARD
TZOFFSETFROM:-0700
TZOFFSETTO:-0800
TZNAME:PST
DTSTART:20271107T090000
END:STANDARD
BEGIN:DAYLIGHT
TZOFFSETFROM:-0800
TZOFFSETTO:-0700
TZNAME:PDT
DTSTART:20280312T100000
END:DAYLIGHT
BEGIN:STANDARD
TZOFFSETFROM:-0700
TZOFFSETTO:-0800
TZNAME:PST
DTSTART:20281105T090000
END:STANDARD
BEGIN:DAYLIGHT
TZOFFSETFROM:-0800
TZOFFSETTO:-0700
TZNAME:PDT
DTSTART:20290311T100000
END:DAYLIGHT
BEGIN:STANDARD
TZOFFSETFROM:-0700
TZOFFSETTO:-0800
TZNAME:PST
DTSTART:20291104T090000
END:STANDARD
END:VTIMEZONE
BEGIN:VEVENT
DTSTART;TZID=America/Los_Angeles:20260513T180000
DTEND;TZID=America/Los_Angeles:20260513T200000
DTSTAMP:20260419T084809
CREATED:20251230T194555Z
LAST-MODIFIED:20251230T201428Z
UID:10000301-1778695200-1778702400@ivhsspca.org
SUMMARY:Bark After Dark
DESCRIPTION:Find your special some-buddy at this fun\, after-hours\, adoption event!\nIf you have been thinking about adding some more love to your home then this is the event for you\, we have over a hundred animals waiting to snuggle up and find their forever home. \nCan’t make it for this event\, that’s okay Bark after Dark is held every month! \nFIND YOUR SPECIAL SOME-BUDDY HERE!
URL:https://ivhsspca.org/event/bark-after-dark/2026-05-13/
ATTACH;FMTTYPE=image/png:https://ivhsspca.org/wp-content/uploads/2025/12/Bark-After-Dark-TEC1225.png
END:VEVENT
BEGIN:VEVENT
DTSTART;TZID=America/Los_Angeles:20260610T180000
DTEND;TZID=America/Los_Angeles:20260610T200000
DTSTAMP:20260419T084809
CREATED:20251230T194555Z
LAST-MODIFIED:20251230T201428Z
UID:10000302-1781114400-1781121600@ivhsspca.org
SUMMARY:Bark After Dark
DESCRIPTION:Find your special some-buddy at this fun\, after-hours\, adoption event!\nIf you have been thinking about adding some more love to your home then this is the event for you\, we have over a hundred animals waiting to snuggle up and find their forever home. \nCan’t make it for this event\, that’s okay Bark after Dark is held every month! \nFIND YOUR SPECIAL SOME-BUDDY HERE!
URL:https://ivhsspca.org/event/bark-after-dark/2026-06-10/
ATTACH;FMTTYPE=image/png:https://ivhsspca.org/wp-content/uploads/2025/12/Bark-After-Dark-TEC1225.png
END:VEVENT
BEGIN:VEVENT
DTSTART;TZID=America/Los_Angeles:20260708T180000
DTEND;TZID=America/Los_Angeles:20260708T200000
DTSTAMP:20260419T084809
CREATED:20251230T194555Z
LAST-MODIFIED:20251230T201428Z
UID:10000303-1783533600-1783540800@ivhsspca.org
SUMMARY:Bark After Dark
DESCRIPTION:Find your special some-buddy at this fun\, after-hours\, adoption event!\nIf you have been thinking about adding some more love to your home then this is the event for you\, we have over a hundred animals waiting to snuggle up and find their forever home. \nCan’t make it for this event\, that’s okay Bark after Dark is held every month! \nFIND YOUR SPECIAL SOME-BUDDY HERE!
URL:https://ivhsspca.org/event/bark-after-dark/2026-07-08/
ATTACH;FMTTYPE=image/png:https://ivhsspca.org/wp-content/uploads/2025/12/Bark-After-Dark-TEC1225.png
END:VEVENT
BEGIN:VEVENT
DTSTART;TZID=America/Los_Angeles:20260812T180000
DTEND;TZID=America/Los_Angeles:20260812T200000
DTSTAMP:20260419T084809
CREATED:20251230T194555Z
LAST-MODIFIED:20251230T201428Z
UID:10000304-1786557600-1786564800@ivhsspca.org
SUMMARY:Bark After Dark
DESCRIPTION:Find your special some-buddy at this fun\, after-hours\, adoption event!\nIf you have been thinking about adding some more love to your home then this is the event for you\, we have over a hundred animals waiting to snuggle up and find their forever home. \nCan’t make it for this event\, that’s okay Bark after Dark is held every month! \nFIND YOUR SPECIAL SOME-BUDDY HERE!
URL:https://ivhsspca.org/event/bark-after-dark/2026-08-12/
ATTACH;FMTTYPE=image/png:https://ivhsspca.org/wp-content/uploads/2025/12/Bark-After-Dark-TEC1225.png
END:VEVENT
BEGIN:VEVENT
DTSTART;TZID=America/Los_Angeles:20260909T180000
DTEND;TZID=America/Los_Angeles:20260909T200000
DTSTAMP:20260419T084809
CREATED:20251230T194555Z
LAST-MODIFIED:20251230T201428Z
UID:10000305-1788976800-1788984000@ivhsspca.org
SUMMARY:Bark After Dark
DESCRIPTION:Find your special some-buddy at this fun\, after-hours\, adoption event!\nIf you have been thinking about adding some more love to your home then this is the event for you\, we have over a hundred animals waiting to snuggle up and find their forever home. \nCan’t make it for this event\, that’s okay Bark after Dark is held every month! \nFIND YOUR SPECIAL SOME-BUDDY HERE!
URL:https://ivhsspca.org/event/bark-after-dark/2026-09-09/
ATTACH;FMTTYPE=image/png:https://ivhsspca.org/wp-content/uploads/2025/12/Bark-After-Dark-TEC1225.png
END:VEVENT
BEGIN:VEVENT
DTSTART;TZID=America/Los_Angeles:20261014T180000
DTEND;TZID=America/Los_Angeles:20261014T200000
DTSTAMP:20260419T084809
CREATED:20251230T194555Z
LAST-MODIFIED:20251230T201428Z
UID:10000306-1792000800-1792008000@ivhsspca.org
SUMMARY:Bark After Dark
DESCRIPTION:Find your special some-buddy at this fun\, after-hours\, adoption event!\nIf you have been thinking about adding some more love to your home then this is the event for you\, we have over a hundred animals waiting to snuggle up and find their forever home. \nCan’t make it for this event\, that’s okay Bark after Dark is held every month! \nFIND YOUR SPECIAL SOME-BUDDY HERE!
URL:https://ivhsspca.org/event/bark-after-dark/2026-10-14/
ATTACH;FMTTYPE=image/png:https://ivhsspca.org/wp-content/uploads/2025/12/Bark-After-Dark-TEC1225.png
END:VEVENT
BEGIN:VEVENT
DTSTART;TZID=America/Los_Angeles:20261111T180000
DTEND;TZID=America/Los_Angeles:20261111T200000
DTSTAMP:20260419T084809
CREATED:20251230T194555Z
LAST-MODIFIED:20251230T201428Z
UID:10000307-1794420000-1794427200@ivhsspca.org
SUMMARY:Bark After Dark
DESCRIPTION:Find your special some-buddy at this fun\, after-hours\, adoption event!\nIf you have been thinking about adding some more love to your home then this is the event for you\, we have over a hundred animals waiting to snuggle up and find their forever home. \nCan’t make it for this event\, that’s okay Bark after Dark is held every month! \nFIND YOUR SPECIAL SOME-BUDDY HERE!
URL:https://ivhsspca.org/event/bark-after-dark/2026-11-11/
ATTACH;FMTTYPE=image/png:https://ivhsspca.org/wp-content/uploads/2025/12/Bark-After-Dark-TEC1225.png
END:VEVENT
BEGIN:VEVENT
DTSTART;TZID=America/Los_Angeles:20261209T180000
DTEND;TZID=America/Los_Angeles:20261209T200000
DTSTAMP:20260419T084809
CREATED:20251230T194555Z
LAST-MODIFIED:20251230T201428Z
UID:10000308-1796839200-1796846400@ivhsspca.org
SUMMARY:Bark After Dark
DESCRIPTION:Find your special some-buddy at this fun\, after-hours\, adoption event!\nIf you have been thinking about adding some more love to your home then this is the event for you\, we have over a hundred animals waiting to snuggle up and find their forever home. \nCan’t make it for this event\, that’s okay Bark after Dark is held every month! \nFIND YOUR SPECIAL SOME-BUDDY HERE!
URL:https://ivhsspca.org/event/bark-after-dark/2026-12-09/
ATTACH;FMTTYPE=image/png:https://ivhsspca.org/wp-content/uploads/2025/12/Bark-After-Dark-TEC1225.png
END:VEVENT
BEGIN:VEVENT
DTSTART;TZID=America/Los_Angeles:20270113T180000
DTEND;TZID=America/Los_Angeles:20270113T200000
DTSTAMP:20260419T084809
CREATED:20251230T194555Z
LAST-MODIFIED:20251230T201428Z
UID:10000309-1799863200-1799870400@ivhsspca.org
SUMMARY:Bark After Dark
DESCRIPTION:Find your special some-buddy at this fun\, after-hours\, adoption event!\nIf you have been thinking about adding some more love to your home then this is the event for you\, we have over a hundred animals waiting to snuggle up and find their forever home. \nCan’t make it for this event\, that’s okay Bark after Dark is held every month! \nFIND YOUR SPECIAL SOME-BUDDY HERE!
URL:https://ivhsspca.org/event/bark-after-dark/2027-01-13/
ATTACH;FMTTYPE=image/png:https://ivhsspca.org/wp-content/uploads/2025/12/Bark-After-Dark-TEC1225.png
END:VEVENT
BEGIN:VEVENT
DTSTART;TZID=America/Los_Angeles:20270210T180000
DTEND;TZID=America/Los_Angeles:20270210T200000
DTSTAMP:20260419T084809
CREATED:20251230T194555Z
LAST-MODIFIED:20251230T201428Z
UID:10000310-1802282400-1802289600@ivhsspca.org
SUMMARY:Bark After Dark
DESCRIPTION:Find your special some-buddy at this fun\, after-hours\, adoption event!\nIf you have been thinking about adding some more love to your home then this is the event for you\, we have over a hundred animals waiting to snuggle up and find their forever home. \nCan’t make it for this event\, that’s okay Bark after Dark is held every month! \nFIND YOUR SPECIAL SOME-BUDDY HERE!
URL:https://ivhsspca.org/event/bark-after-dark/2027-02-10/
ATTACH;FMTTYPE=image/png:https://ivhsspca.org/wp-content/uploads/2025/12/Bark-After-Dark-TEC1225.png
END:VEVENT
BEGIN:VEVENT
DTSTART;TZID=America/Los_Angeles:20270310T180000
DTEND;TZID=America/Los_Angeles:20270310T200000
DTSTAMP:20260419T084809
CREATED:20251230T194555Z
LAST-MODIFIED:20251230T201428Z
UID:10000311-1804701600-1804708800@ivhsspca.org
SUMMARY:Bark After Dark
DESCRIPTION:Find your special some-buddy at this fun\, after-hours\, adoption event!\nIf you have been thinking about adding some more love to your home then this is the event for you\, we have over a hundred animals waiting to snuggle up and find their forever home. \nCan’t make it for this event\, that’s okay Bark after Dark is held every month! \nFIND YOUR SPECIAL SOME-BUDDY HERE!
URL:https://ivhsspca.org/event/bark-after-dark/2027-03-10/
ATTACH;FMTTYPE=image/png:https://ivhsspca.org/wp-content/uploads/2025/12/Bark-After-Dark-TEC1225.png
END:VEVENT
BEGIN:VEVENT
DTSTART;TZID=America/Los_Angeles:20270414T180000
DTEND;TZID=America/Los_Angeles:20270414T200000
DTSTAMP:20260419T084809
CREATED:20251230T194555Z
LAST-MODIFIED:20251230T201428Z
UID:10000312-1807725600-1807732800@ivhsspca.org
SUMMARY:Bark After Dark
DESCRIPTION:Find your special some-buddy at this fun\, after-hours\, adoption event!\nIf you have been thinking about adding some more love to your home then this is the event for you\, we have over a hundred animals waiting to snuggle up and find their forever home. \nCan’t make it for this event\, that’s okay Bark after Dark is held every month! \nFIND YOUR SPECIAL SOME-BUDDY HERE!
URL:https://ivhsspca.org/event/bark-after-dark/2027-04-14/
ATTACH;FMTTYPE=image/png:https://ivhsspca.org/wp-content/uploads/2025/12/Bark-After-Dark-TEC1225.png
END:VEVENT
BEGIN:VEVENT
DTSTART;TZID=America/Los_Angeles:20270512T180000
DTEND;TZID=America/Los_Angeles:20270512T200000
DTSTAMP:20260419T084809
CREATED:20251230T194555Z
LAST-MODIFIED:20251230T201428Z
UID:10000313-1810144800-1810152000@ivhsspca.org
SUMMARY:Bark After Dark
DESCRIPTION:Find your special some-buddy at this fun\, after-hours\, adoption event!\nIf you have been thinking about adding some more love to your home then this is the event for you\, we have over a hundred animals waiting to snuggle up and find their forever home. \nCan’t make it for this event\, that’s okay Bark after Dark is held every month! \nFIND YOUR SPECIAL SOME-BUDDY HERE!
URL:https://ivhsspca.org/event/bark-after-dark/2027-05-12/
ATTACH;FMTTYPE=image/png:https://ivhsspca.org/wp-content/uploads/2025/12/Bark-After-Dark-TEC1225.png
END:VEVENT
BEGIN:VEVENT
DTSTART;TZID=America/Los_Angeles:20270609T180000
DTEND;TZID=America/Los_Angeles:20270609T200000
DTSTAMP:20260419T084809
CREATED:20251230T194555Z
LAST-MODIFIED:20251230T201428Z
UID:10000314-1812564000-1812571200@ivhsspca.org
SUMMARY:Bark After Dark
DESCRIPTION:Find your special some-buddy at this fun\, after-hours\, adoption event!\nIf you have been thinking about adding some more love to your home then this is the event for you\, we have over a hundred animals waiting to snuggle up and find their forever home. \nCan’t make it for this event\, that’s okay Bark after Dark is held every month! \nFIND YOUR SPECIAL SOME-BUDDY HERE!
URL:https://ivhsspca.org/event/bark-after-dark/2027-06-09/
ATTACH;FMTTYPE=image/png:https://ivhsspca.org/wp-content/uploads/2025/12/Bark-After-Dark-TEC1225.png
END:VEVENT
BEGIN:VEVENT
DTSTART;TZID=America/Los_Angeles:20270714T180000
DTEND;TZID=America/Los_Angeles:20270714T200000
DTSTAMP:20260419T084809
CREATED:20251230T194555Z
LAST-MODIFIED:20251230T201428Z
UID:10000315-1815588000-1815595200@ivhsspca.org
SUMMARY:Bark After Dark
DESCRIPTION:Find your special some-buddy at this fun\, after-hours\, adoption event!\nIf you have been thinking about adding some more love to your home then this is the event for you\, we have over a hundred animals waiting to snuggle up and find their forever home. \nCan’t make it for this event\, that’s okay Bark after Dark is held every month! \nFIND YOUR SPECIAL SOME-BUDDY HERE!
URL:https://ivhsspca.org/event/bark-after-dark/2027-07-14/
ATTACH;FMTTYPE=image/png:https://ivhsspca.org/wp-content/uploads/2025/12/Bark-After-Dark-TEC1225.png
END:VEVENT
BEGIN:VEVENT
DTSTART;TZID=America/Los_Angeles:20270811T180000
DTEND;TZID=America/Los_Angeles:20270811T200000
DTSTAMP:20260419T084809
CREATED:20251230T194555Z
LAST-MODIFIED:20251230T201428Z
UID:10000316-1818007200-1818014400@ivhsspca.org
SUMMARY:Bark After Dark
DESCRIPTION:Find your special some-buddy at this fun\, after-hours\, adoption event!\nIf you have been thinking about adding some more love to your home then this is the event for you\, we have over a hundred animals waiting to snuggle up and find their forever home. \nCan’t make it for this event\, that’s okay Bark after Dark is held every month! \nFIND YOUR SPECIAL SOME-BUDDY HERE!
URL:https://ivhsspca.org/event/bark-after-dark/2027-08-11/
ATTACH;FMTTYPE=image/png:https://ivhsspca.org/wp-content/uploads/2025/12/Bark-After-Dark-TEC1225.png
END:VEVENT
BEGIN:VEVENT
DTSTART;TZID=America/Los_Angeles:20270908T180000
DTEND;TZID=America/Los_Angeles:20270908T200000
DTSTAMP:20260419T084809
CREATED:20251230T194555Z
LAST-MODIFIED:20251230T201428Z
UID:10000317-1820426400-1820433600@ivhsspca.org
SUMMARY:Bark After Dark
DESCRIPTION:Find your special some-buddy at this fun\, after-hours\, adoption event!\nIf you have been thinking about adding some more love to your home then this is the event for you\, we have over a hundred animals waiting to snuggle up and find their forever home. \nCan’t make it for this event\, that’s okay Bark after Dark is held every month! \nFIND YOUR SPECIAL SOME-BUDDY HERE!
URL:https://ivhsspca.org/event/bark-after-dark/2027-09-08/
ATTACH;FMTTYPE=image/png:https://ivhsspca.org/wp-content/uploads/2025/12/Bark-After-Dark-TEC1225.png
END:VEVENT
BEGIN:VEVENT
DTSTART;TZID=America/Los_Angeles:20271013T180000
DTEND;TZID=America/Los_Angeles:20271013T200000
DTSTAMP:20260419T084809
CREATED:20251230T194555Z
LAST-MODIFIED:20251230T201428Z
UID:10000318-1823450400-1823457600@ivhsspca.org
SUMMARY:Bark After Dark
DESCRIPTION:Find your special some-buddy at this fun\, after-hours\, adoption event!\nIf you have been thinking about adding some more love to your home then this is the event for you\, we have over a hundred animals waiting to snuggle up and find their forever home. \nCan’t make it for this event\, that’s okay Bark after Dark is held every month! \nFIND YOUR SPECIAL SOME-BUDDY HERE!
URL:https://ivhsspca.org/event/bark-after-dark/2027-10-13/
ATTACH;FMTTYPE=image/png:https://ivhsspca.org/wp-content/uploads/2025/12/Bark-After-Dark-TEC1225.png
END:VEVENT
BEGIN:VEVENT
DTSTART;TZID=America/Los_Angeles:20271110T180000
DTEND;TZID=America/Los_Angeles:20271110T200000
DTSTAMP:20260419T084809
CREATED:20251230T194555Z
LAST-MODIFIED:20251230T201428Z
UID:10000319-1825869600-1825876800@ivhsspca.org
SUMMARY:Bark After Dark
DESCRIPTION:Find your special some-buddy at this fun\, after-hours\, adoption event!\nIf you have been thinking about adding some more love to your home then this is the event for you\, we have over a hundred animals waiting to snuggle up and find their forever home. \nCan’t make it for this event\, that’s okay Bark after Dark is held every month! \nFIND YOUR SPECIAL SOME-BUDDY HERE!
URL:https://ivhsspca.org/event/bark-after-dark/2027-11-10/
ATTACH;FMTTYPE=image/png:https://ivhsspca.org/wp-content/uploads/2025/12/Bark-After-Dark-TEC1225.png
END:VEVENT
BEGIN:VEVENT
DTSTART;TZID=America/Los_Angeles:20271208T180000
DTEND;TZID=America/Los_Angeles:20271208T200000
DTSTAMP:20260419T084809
CREATED:20251230T194555Z
LAST-MODIFIED:20251230T201428Z
UID:10000320-1828288800-1828296000@ivhsspca.org
SUMMARY:Bark After Dark
DESCRIPTION:Find your special some-buddy at this fun\, after-hours\, adoption event!\nIf you have been thinking about adding some more love to your home then this is the event for you\, we have over a hundred animals waiting to snuggle up and find their forever home. \nCan’t make it for this event\, that’s okay Bark after Dark is held every month! \nFIND YOUR SPECIAL SOME-BUDDY HERE!
URL:https://ivhsspca.org/event/bark-after-dark/2027-12-08/
ATTACH;FMTTYPE=image/png:https://ivhsspca.org/wp-content/uploads/2025/12/Bark-After-Dark-TEC1225.png
END:VEVENT
BEGIN:VEVENT
DTSTART;TZID=America/Los_Angeles:20280112T180000
DTEND;TZID=America/Los_Angeles:20280112T200000
DTSTAMP:20260419T084809
CREATED:20251230T194555Z
LAST-MODIFIED:20251230T201428Z
UID:10000321-1831312800-1831320000@ivhsspca.org
SUMMARY:Bark After Dark
DESCRIPTION:Find your special some-buddy at this fun\, after-hours\, adoption event!\nIf you have been thinking about adding some more love to your home then this is the event for you\, we have over a hundred animals waiting to snuggle up and find their forever home. \nCan’t make it for this event\, that’s okay Bark after Dark is held every month! \nFIND YOUR SPECIAL SOME-BUDDY HERE!
URL:https://ivhsspca.org/event/bark-after-dark/2028-01-12/
ATTACH;FMTTYPE=image/png:https://ivhsspca.org/wp-content/uploads/2025/12/Bark-After-Dark-TEC1225.png
END:VEVENT
BEGIN:VEVENT
DTSTART;TZID=America/Los_Angeles:20280209T180000
DTEND;TZID=America/Los_Angeles:20280209T200000
DTSTAMP:20260419T084809
CREATED:20251230T194555Z
LAST-MODIFIED:20251230T201428Z
UID:10000322-1833732000-1833739200@ivhsspca.org
SUMMARY:Bark After Dark
DESCRIPTION:Find your special some-buddy at this fun\, after-hours\, adoption event!\nIf you have been thinking about adding some more love to your home then this is the event for you\, we have over a hundred animals waiting to snuggle up and find their forever home. \nCan’t make it for this event\, that’s okay Bark after Dark is held every month! \nFIND YOUR SPECIAL SOME-BUDDY HERE!
URL:https://ivhsspca.org/event/bark-after-dark/2028-02-09/
ATTACH;FMTTYPE=image/png:https://ivhsspca.org/wp-content/uploads/2025/12/Bark-After-Dark-TEC1225.png
END:VEVENT
BEGIN:VEVENT
DTSTART;TZID=America/Los_Angeles:20280308T180000
DTEND;TZID=America/Los_Angeles:20280308T200000
DTSTAMP:20260419T084809
CREATED:20251230T194555Z
LAST-MODIFIED:20251230T201428Z
UID:10000323-1836151200-1836158400@ivhsspca.org
SUMMARY:Bark After Dark
DESCRIPTION:Find your special some-buddy at this fun\, after-hours\, adoption event!\nIf you have been thinking about adding some more love to your home then this is the event for you\, we have over a hundred animals waiting to snuggle up and find their forever home. \nCan’t make it for this event\, that’s okay Bark after Dark is held every month! \nFIND YOUR SPECIAL SOME-BUDDY HERE!
URL:https://ivhsspca.org/event/bark-after-dark/2028-03-08/
ATTACH;FMTTYPE=image/png:https://ivhsspca.org/wp-content/uploads/2025/12/Bark-After-Dark-TEC1225.png
END:VEVENT
BEGIN:VEVENT
DTSTART;TZID=America/Los_Angeles:20280412T180000
DTEND;TZID=America/Los_Angeles:20280412T200000
DTSTAMP:20260419T084809
CREATED:20251230T194555Z
LAST-MODIFIED:20251230T201428Z
UID:10000324-1839175200-1839182400@ivhsspca.org
SUMMARY:Bark After Dark
DESCRIPTION:Find your special some-buddy at this fun\, after-hours\, adoption event!\nIf you have been thinking about adding some more love to your home then this is the event for you\, we have over a hundred animals waiting to snuggle up and find their forever home. \nCan’t make it for this event\, that’s okay Bark after Dark is held every month! \nFIND YOUR SPECIAL SOME-BUDDY HERE!
URL:https://ivhsspca.org/event/bark-after-dark/2028-04-12/
ATTACH;FMTTYPE=image/png:https://ivhsspca.org/wp-content/uploads/2025/12/Bark-After-Dark-TEC1225.png
END:VEVENT
BEGIN:VEVENT
DTSTART;TZID=America/Los_Angeles:20280510T180000
DTEND;TZID=America/Los_Angeles:20280510T200000
DTSTAMP:20260419T084809
CREATED:20251230T194555Z
LAST-MODIFIED:20251230T201428Z
UID:10000325-1841594400-1841601600@ivhsspca.org
SUMMARY:Bark After Dark
DESCRIPTION:Find your special some-buddy at this fun\, after-hours\, adoption event!\nIf you have been thinking about adding some more love to your home then this is the event for you\, we have over a hundred animals waiting to snuggle up and find their forever home. \nCan’t make it for this event\, that’s okay Bark after Dark is held every month! \nFIND YOUR SPECIAL SOME-BUDDY HERE!
URL:https://ivhsspca.org/event/bark-after-dark/2028-05-10/
ATTACH;FMTTYPE=image/png:https://ivhsspca.org/wp-content/uploads/2025/12/Bark-After-Dark-TEC1225.png
END:VEVENT
BEGIN:VEVENT
DTSTART;TZID=America/Los_Angeles:20280614T180000
DTEND;TZID=America/Los_Angeles:20280614T200000
DTSTAMP:20260419T084809
CREATED:20251230T194555Z
LAST-MODIFIED:20251230T201428Z
UID:10000326-1844618400-1844625600@ivhsspca.org
SUMMARY:Bark After Dark
DESCRIPTION:Find your special some-buddy at this fun\, after-hours\, adoption event!\nIf you have been thinking about adding some more love to your home then this is the event for you\, we have over a hundred animals waiting to snuggle up and find their forever home. \nCan’t make it for this event\, that’s okay Bark after Dark is held every month! \nFIND YOUR SPECIAL SOME-BUDDY HERE!
URL:https://ivhsspca.org/event/bark-after-dark/2028-06-14/
ATTACH;FMTTYPE=image/png:https://ivhsspca.org/wp-content/uploads/2025/12/Bark-After-Dark-TEC1225.png
END:VEVENT
BEGIN:VEVENT
DTSTART;TZID=America/Los_Angeles:20280712T180000
DTEND;TZID=America/Los_Angeles:20280712T200000
DTSTAMP:20260419T084809
CREATED:20251230T194555Z
LAST-MODIFIED:20251230T201428Z
UID:10000327-1847037600-1847044800@ivhsspca.org
SUMMARY:Bark After Dark
DESCRIPTION:Find your special some-buddy at this fun\, after-hours\, adoption event!\nIf you have been thinking about adding some more love to your home then this is the event for you\, we have over a hundred animals waiting to snuggle up and find their forever home. \nCan’t make it for this event\, that’s okay Bark after Dark is held every month! \nFIND YOUR SPECIAL SOME-BUDDY HERE!
URL:https://ivhsspca.org/event/bark-after-dark/2028-07-12/
ATTACH;FMTTYPE=image/png:https://ivhsspca.org/wp-content/uploads/2025/12/Bark-After-Dark-TEC1225.png
END:VEVENT
BEGIN:VEVENT
DTSTART;TZID=America/Los_Angeles:20280809T180000
DTEND;TZID=America/Los_Angeles:20280809T200000
DTSTAMP:20260419T084809
CREATED:20251230T194555Z
LAST-MODIFIED:20251230T201428Z
UID:10000328-1849456800-1849464000@ivhsspca.org
SUMMARY:Bark After Dark
DESCRIPTION:Find your special some-buddy at this fun\, after-hours\, adoption event!\nIf you have been thinking about adding some more love to your home then this is the event for you\, we have over a hundred animals waiting to snuggle up and find their forever home. \nCan’t make it for this event\, that’s okay Bark after Dark is held every month! \nFIND YOUR SPECIAL SOME-BUDDY HERE!
URL:https://ivhsspca.org/event/bark-after-dark/2028-08-09/
ATTACH;FMTTYPE=image/png:https://ivhsspca.org/wp-content/uploads/2025/12/Bark-After-Dark-TEC1225.png
END:VEVENT
BEGIN:VEVENT
DTSTART;TZID=America/Los_Angeles:20280913T180000
DTEND;TZID=America/Los_Angeles:20280913T200000
DTSTAMP:20260419T084809
CREATED:20251230T194555Z
LAST-MODIFIED:20251230T201428Z
UID:10000329-1852480800-1852488000@ivhsspca.org
SUMMARY:Bark After Dark
DESCRIPTION:Find your special some-buddy at this fun\, after-hours\, adoption event!\nIf you have been thinking about adding some more love to your home then this is the event for you\, we have over a hundred animals waiting to snuggle up and find their forever home. \nCan’t make it for this event\, that’s okay Bark after Dark is held every month! \nFIND YOUR SPECIAL SOME-BUDDY HERE!
URL:https://ivhsspca.org/event/bark-after-dark/2028-09-13/
ATTACH;FMTTYPE=image/png:https://ivhsspca.org/wp-content/uploads/2025/12/Bark-After-Dark-TEC1225.png
END:VEVENT
BEGIN:VEVENT
DTSTART;TZID=America/Los_Angeles:20281011T180000
DTEND;TZID=America/Los_Angeles:20281011T200000
DTSTAMP:20260419T084809
CREATED:20251230T194555Z
LAST-MODIFIED:20251230T201428Z
UID:10000330-1854900000-1854907200@ivhsspca.org
SUMMARY:Bark After Dark
DESCRIPTION:Find your special some-buddy at this fun\, after-hours\, adoption event!\nIf you have been thinking about adding some more love to your home then this is the event for you\, we have over a hundred animals waiting to snuggle up and find their forever home. \nCan’t make it for this event\, that’s okay Bark after Dark is held every month! \nFIND YOUR SPECIAL SOME-BUDDY HERE!
URL:https://ivhsspca.org/event/bark-after-dark/2028-10-11/
ATTACH;FMTTYPE=image/png:https://ivhsspca.org/wp-content/uploads/2025/12/Bark-After-Dark-TEC1225.png
END:VEVENT
END:VCALENDAR