BEGIN:VCALENDAR
VERSION:2.0
PRODID:-//IVHS &amp; SPCA - ECPv6.15.20//NONSGML v1.0//EN
CALSCALE:GREGORIAN
METHOD:PUBLISH
X-ORIGINAL-URL:https://ivhsspca.org
X-WR-CALDESC:Events for IVHS &amp; SPCA
REFRESH-INTERVAL;VALUE=DURATION:PT1H
X-Robots-Tag:noindex
X-PUBLISHED-TTL:PT1H
BEGIN:VTIMEZONE
TZID:America/Los_Angeles
BEGIN:DAYLIGHT
TZOFFSETFROM:-0800
TZOFFSETTO:-0700
TZNAME:PDT
DTSTART:20250309T100000
END:DAYLIGHT
BEGIN:STANDARD
TZOFFSETFROM:-0700
TZOFFSETTO:-0800
TZNAME:PST
DTSTART:20251102T090000
END:STANDARD
BEGIN:DAYLIGHT
TZOFFSETFROM:-0800
TZOFFSETTO:-0700
TZNAME:PDT
DTSTART:20260308T100000
END:DAYLIGHT
BEGIN:STANDARD
TZOFFSETFROM:-0700
TZOFFSETTO:-0800
TZNAME:PST
DTSTART:20261101T090000
END:STANDARD
BEGIN:DAYLIGHT
TZOFFSETFROM:-0800
TZOFFSETTO:-0700
TZNAME:PDT
DTSTART:20270314T100000
END:DAYLIGHT
BEGIN:STANDARD
TZOFFSETFROM:-0700
TZOFFSETTO:-0800
TZNAME:PST
DTSTART:20271107T090000
END:STANDARD
END:VTIMEZONE
BEGIN:VEVENT
DTSTART;TZID=America/Los_Angeles:20260425T080000
DTEND;TZID=America/Los_Angeles:20260425T120000
DTSTAMP:20260424T015439
CREATED:20260303T045328Z
LAST-MODIFIED:20260303T045429Z
UID:10000358-1777104000-1777118400@ivhsspca.org
SUMMARY:Paw 4 Pets Walk!
DESCRIPTION:Drop It Like It’s Walk. \nJoin us on Saturday\, April 25\, 2026\, for the Paws 4 Pets Walk as we celebrate 25+ years of saving lives with a millennial-themed day packed with throwback vibes and tail wags. \nLace up\, leash up\, and walk your dog in support of the shelter pets at Inland Valley Humane Society & S.P.C.A. and San Gabriel Valley Humane Society. You’ll be raising funds for animals still waiting for their forever homes while enjoying music\, activities\, and plenty of nostalgia. \nREGISTER TODAY!
URL:https://ivhsspca.org/event/paw-4-pets-walk/
ATTACH;FMTTYPE=image/png:https://ivhsspca.org/wp-content/uploads/2026/03/P4P-426-Calendar.png
END:VEVENT
END:VCALENDAR