BEGIN:VCALENDAR
VERSION:2.0
PRODID:-//IVHS &amp; SPCA - ECPv6.15.20//NONSGML v1.0//EN
CALSCALE:GREGORIAN
METHOD:PUBLISH
X-WR-CALNAME:IVHS &amp; SPCA
X-ORIGINAL-URL:https://ivhsspca.org
X-WR-CALDESC:Events for IVHS &amp; SPCA
REFRESH-INTERVAL;VALUE=DURATION:PT1H
X-Robots-Tag:noindex
X-PUBLISHED-TTL:PT1H
BEGIN:VTIMEZONE
TZID:America/Los_Angeles
BEGIN:DAYLIGHT
TZOFFSETFROM:-0800
TZOFFSETTO:-0700
TZNAME:PDT
DTSTART:20250309T100000
END:DAYLIGHT
BEGIN:STANDARD
TZOFFSETFROM:-0700
TZOFFSETTO:-0800
TZNAME:PST
DTSTART:20251102T090000
END:STANDARD
BEGIN:DAYLIGHT
TZOFFSETFROM:-0800
TZOFFSETTO:-0700
TZNAME:PDT
DTSTART:20260308T100000
END:DAYLIGHT
BEGIN:STANDARD
TZOFFSETFROM:-0700
TZOFFSETTO:-0800
TZNAME:PST
DTSTART:20261101T090000
END:STANDARD
BEGIN:DAYLIGHT
TZOFFSETFROM:-0800
TZOFFSETTO:-0700
TZNAME:PDT
DTSTART:20270314T100000
END:DAYLIGHT
BEGIN:STANDARD
TZOFFSETFROM:-0700
TZOFFSETTO:-0800
TZNAME:PST
DTSTART:20271107T090000
END:STANDARD
END:VTIMEZONE
BEGIN:VTIMEZONE
TZID:PST8PDT
BEGIN:DAYLIGHT
TZOFFSETFROM:-0800
TZOFFSETTO:-0700
TZNAME:PDT
DTSTART:20250309T100000
END:DAYLIGHT
BEGIN:STANDARD
TZOFFSETFROM:-0700
TZOFFSETTO:-0800
TZNAME:PST
DTSTART:20251102T090000
END:STANDARD
BEGIN:DAYLIGHT
TZOFFSETFROM:-0800
TZOFFSETTO:-0700
TZNAME:PDT
DTSTART:20260308T100000
END:DAYLIGHT
BEGIN:STANDARD
TZOFFSETFROM:-0700
TZOFFSETTO:-0800
TZNAME:PST
DTSTART:20261101T090000
END:STANDARD
BEGIN:DAYLIGHT
TZOFFSETFROM:-0800
TZOFFSETTO:-0700
TZNAME:PDT
DTSTART:20270314T100000
END:DAYLIGHT
BEGIN:STANDARD
TZOFFSETFROM:-0700
TZOFFSETTO:-0800
TZNAME:PST
DTSTART:20271107T090000
END:STANDARD
END:VTIMEZONE
BEGIN:VEVENT
DTSTART;VALUE=DATE:20260424
DTEND;VALUE=DATE:20260425
DTSTAMP:20260420T014047
CREATED:20260407T230406Z
LAST-MODIFIED:20260407T230443Z
UID:10000375-1777017600-1777050000@ivhsspca.org
SUMMARY:The Good Mobile
DESCRIPTION:Each month\, our Mobile Spay/Neuter Clinic will be visiting multiple locations to provide low-cost spay and neuter services to pet owners throughout the community. \nAppointments are required\, and services are open to all pet owners\, regardless of where you live. \nTogether\, we’re creating a more humane tomorrow—one pet at a time. Click below to view upcoming dates and locations and schedule your appointment. \nSchedule Your Appointment Today!
URL:https://ivhsspca.org/event/the-good-mobile/2026-04-24/
ATTACH;FMTTYPE=image/png:https://ivhsspca.org/wp-content/uploads/2026/04/TGM-426-Cal.png
END:VEVENT
BEGIN:VEVENT
DTSTART;TZID=PST8PDT:20260424T150000
DTEND;TZID=PST8PDT:20260424T160000
DTSTAMP:20260420T014047
CREATED:20251230T183239Z
LAST-MODIFIED:20260105T013119Z
UID:10000240-1777042800-1777046400@ivhsspca.org
SUMMARY:Humane Heroes Reading Program
DESCRIPTION:CLICK HERE TO SIGN UP!
URL:https://ivhsspca.org/event/humane-heroes-reading-program-25/2026-04-24/
LOCATION:Inland Valley Humane Society & S.P.C.A.\, 500 Humane Way\, Pomona\, CA\, 92879\, United States
ATTACH;FMTTYPE=image/png:https://ivhsspca.org/wp-content/uploads/2025/11/Humane-Heros-TEC25.png
END:VEVENT
BEGIN:VEVENT
DTSTART;TZID=America/Los_Angeles:20260424T170000
DTEND;TZID=America/Los_Angeles:20260424T180000
DTSTAMP:20260420T014048
CREATED:20260407T225003Z
LAST-MODIFIED:20260407T225136Z
UID:10000361-1777050000-1777053600@ivhsspca.org
SUMMARY:MOBILE VACCINE CLINIC
DESCRIPTION:We’re heading to Covina on Friday\, April 24\, 2026 with our Mobile Vaccine and Microchip Clinic to provide affordable\, essential care for your pets. \nNo appointment is needed. This clinic is open to all pet owners\, regardless of where you live. Services include individual vaccines\, vaccine packages for dogs and cats\, and microchipping for just $30. \nStop by and take advantage of convenient\, low-cost care. We hope to see you there!
URL:https://ivhsspca.org/event/15442/
LOCATION:Hockey Rink at Covina Park\, 301 N. 4th Ave.\, Covina\, CA\, 91723\, United States
ATTACH;FMTTYPE=image/png:https://ivhsspca.org/wp-content/uploads/2026/04/LCVM426C.png
END:VEVENT
END:VCALENDAR